BEGIN:VCALENDAR
VERSION:2.0
PRODID:-//ExhibitionMatches.com//NONSGML v1.0//EN
BEGIN:VEVENT
UID=778E79E0-B02E-28BB-197CF58270E64EBA
DTSTAMP=20260424T060232Z
DTSTART;VALUE=DATE:20260613
DTEND;VALUE=DATE:20260620
SUMMARY:Minnesota Duals Team Registration
LOCATION:MN USA Wrestling, 3752 Ridge Ave, Anoka, MN, 55303
DESCRIPTION:View full event details: https://wrestlingtournaments.org/view.cfm?ID=107051
Contact: Matt Njos mnjos@mnusawrestling.org
URL;VALUE=URI:https://wrestlingtournaments.org/view.cfm?ID=107051
END:VEVENT
END:VCALENDAR