BEGIN:VCALENDAR
VERSION:2.0
PRODID:-//ExhibitionMatches.com//NONSGML v1.0//EN
BEGIN:VEVENT
UID=ED9B375C-0167-7999-0B08694DEF34793A
DTSTAMP=20260421T134510Z
DTSTART;VALUE=DATE:20260709
DTEND;VALUE=DATE:20260716
SUMMARY:Minnesota Fargo Registration
LOCATION:MN USA Wrestling, 3752 Ridge Ave, Anoka, MN, 55303
DESCRIPTION:View full event details: https://wrestlingtournaments.org/view.cfm?ID=107084
Contact: Matt Njos mnjos@mnusawrestling.org
URL;VALUE=URI:https://wrestlingtournaments.org/view.cfm?ID=107084
END:VEVENT
END:VCALENDAR